BEGIN:VCALENDAR
VERSION:2.0
PRODID:icalendar-ruby
CALSCALE:GREGORIAN
METHOD:PUBLISH
BEGIN:VEVENT
DTSTAMP:20260424T075451Z
UID:5-1230961@lighthousechurch727.com
DTSTART:20260913T140000Z
DTEND:20260913T153000Z
CLASS:PUBLIC
CREATED:20260423T222308
DESCRIPTION:Sunday Worship
LAST-MODIFIED:20260423T222308
LOCATION:Worship Center
SUMMARY:Sunday Worship
URL;VALUE=URI:https://www.lighthousechurch727.com/events/sunday-worship/202
 6-09-13
END:VEVENT
END:VCALENDAR
