BEGIN:VCALENDAR
VERSION:2.0
PRODID:icalendar-ruby
CALSCALE:GREGORIAN
METHOD:PUBLISH
BEGIN:VEVENT
DTSTAMP:20260424T120034Z
UID:5-1231917@lighthousechurch727.com
DTSTART:20260927T140000Z
DTEND:20260927T153000Z
CLASS:PUBLIC
CREATED:20260424T075134
DESCRIPTION:Sunday Worship
LAST-MODIFIED:20260424T075134
LOCATION:Worship Center
SUMMARY:Sunday Worship
URL;VALUE=URI:https://www.lighthousechurch727.com/events/sunday-worship/202
 6-09-27
END:VEVENT
END:VCALENDAR
