BEGIN:VCALENDAR
VERSION:2.0
PRODID:icalendar-ruby
CALSCALE:GREGORIAN
METHOD:PUBLISH
BEGIN:VEVENT
DTSTAMP:20260424T134319Z
UID:5-1231918@lighthousechurch727.com
DTSTART:20261004T140000Z
DTEND:20261004T153000Z
CLASS:PUBLIC
CREATED:20260424T075134
DESCRIPTION:Sunday Worship
LAST-MODIFIED:20260424T075134
LOCATION:Worship Center
SUMMARY:Sunday Worship
URL;VALUE=URI:https://www.lighthousechurch727.com/events/sunday-worship/202
 6-10-04
END:VEVENT
END:VCALENDAR
