BEGIN:VCALENDAR
VERSION:2.0
PRODID:icalendar-ruby
CALSCALE:GREGORIAN
METHOD:PUBLISH
BEGIN:VEVENT
DTSTAMP:20260424T203820Z
UID:5-1234784@lighthousechurch727.com
DTSTART:20261101T150000Z
DTEND:20261101T163000Z
CLASS:PUBLIC
CREATED:20260424T161930
DESCRIPTION:Sunday Worship
LAST-MODIFIED:20260424T161930
LOCATION:Worship Center
SUMMARY:Sunday Worship
URL;VALUE=URI:https://www.lighthousechurch727.com/events/sunday-worship/202
 6-11-01
END:VEVENT
END:VCALENDAR
